BEGIN:VCALENDAR
VERSION:2.0
PRODID:-//Club Tocumwal - ECPv6.15.20//NONSGML v1.0//EN
CALSCALE:GREGORIAN
METHOD:PUBLISH
X-WR-CALNAME:Club Tocumwal
X-ORIGINAL-URL:https://www.clubtocumwal.com
X-WR-CALDESC:Events for Club Tocumwal
REFRESH-INTERVAL;VALUE=DURATION:PT1H
X-Robots-Tag:noindex
X-PUBLISHED-TTL:PT1H
BEGIN:VTIMEZONE
TZID:Australia/Melbourne
BEGIN:STANDARD
TZOFFSETFROM:+1100
TZOFFSETTO:+1000
TZNAME:AEST
DTSTART:20250405T160000
END:STANDARD
BEGIN:DAYLIGHT
TZOFFSETFROM:+1000
TZOFFSETTO:+1100
TZNAME:AEDT
DTSTART:20251004T160000
END:DAYLIGHT
BEGIN:STANDARD
TZOFFSETFROM:+1100
TZOFFSETTO:+1000
TZNAME:AEST
DTSTART:20260404T160000
END:STANDARD
BEGIN:DAYLIGHT
TZOFFSETFROM:+1000
TZOFFSETTO:+1100
TZNAME:AEDT
DTSTART:20261003T160000
END:DAYLIGHT
BEGIN:STANDARD
TZOFFSETFROM:+1100
TZOFFSETTO:+1000
TZNAME:AEST
DTSTART:20270403T160000
END:STANDARD
BEGIN:DAYLIGHT
TZOFFSETFROM:+1000
TZOFFSETTO:+1100
TZNAME:AEDT
DTSTART:20271002T160000
END:DAYLIGHT
END:VTIMEZONE
BEGIN:VEVENT
DTSTART;VALUE=DATE:20260606
DTEND;VALUE=DATE:20260607
DTSTAMP:20260419T221947
CREATED:20260319T022518Z
LAST-MODIFIED:20260319T023033Z
UID:10002402-1780704000-1780790399@www.clubtocumwal.com
SUMMARY:Winter Tournament - Women's and Men's Individual Stableford
DESCRIPTION:  \nLink to register: https://www.mitournament.com:443/tournament/register?tournamentId=204329
URL:https://www.clubtocumwal.com/event/winter-tournament-womens-and-mens-individual-stableford/
LOCATION:Club Tocumwal
CATEGORIES:Club Tocumwal Events,Golf Tournaments
ATTACH;FMTTYPE=image/png:https://www.clubtocumwal.com/wp-content/uploads/2026/03/Winter-Tournament-1.png
END:VEVENT
BEGIN:VEVENT
DTSTART;TZID=Australia/Melbourne:20260606T183000
DTEND;TZID=Australia/Melbourne:20260606T230000
DTSTAMP:20260419T221947
CREATED:20260319T013133Z
LAST-MODIFIED:20260319T013134Z
UID:10002398-1780770600-1780786800@www.clubtocumwal.com
SUMMARY:Dragged to Bingo
DESCRIPTION:It’s Bold\, It’s Loud\, It’s Proud and It’s back! \nGrab your crew\, book a table or two and don’t miss out on Drag Bingo. \nTickets on sale soon.
URL:https://www.clubtocumwal.com/event/dragged-to-bingo/
LOCATION:Club Tocumwal
CATEGORIES:Club Tocumwal Events
ATTACH;FMTTYPE=image/png:https://www.clubtocumwal.com/wp-content/uploads/2026/03/Dragged-to-Bingo.png
END:VEVENT
BEGIN:VEVENT
DTSTART;VALUE=DATE:20260607
DTEND;VALUE=DATE:20260608
DTSTAMP:20260419T221947
CREATED:20260319T022659Z
LAST-MODIFIED:20260319T022659Z
UID:10002403-1780790400-1780876799@www.clubtocumwal.com
SUMMARY:Winter Tournament - Medley 4BBB Stabelford
DESCRIPTION:Link to register: https://www.mitournament.com:443/tournament/register?tournamentId=204333
URL:https://www.clubtocumwal.com/event/winter-tournament-medley-4bbb-stabelford/
LOCATION:Club Tocumwal
CATEGORIES:Club Tocumwal Events,Golf Tournaments
ATTACH;FMTTYPE=image/png:https://www.clubtocumwal.com/wp-content/uploads/2026/03/Winter-Tournament-1.png
END:VEVENT
BEGIN:VEVENT
DTSTART;VALUE=DATE:20260608
DTEND;VALUE=DATE:20260609
DTSTAMP:20260419T221947
CREATED:20260319T022821Z
LAST-MODIFIED:20260319T022821Z
UID:10002404-1780876800-1780963199@www.clubtocumwal.com
SUMMARY:Winter Tournament - Women's and Men's Individual Stableford
DESCRIPTION:Link to Register: https://www.mitournament.com:443/tournament/register?tournamentId=204334
URL:https://www.clubtocumwal.com/event/winter-tournament-womens-and-mens-individual-stableford-2/
LOCATION:Club Tocumwal
CATEGORIES:Club Tocumwal Events,Golf Tournaments
ATTACH;FMTTYPE=image/png:https://www.clubtocumwal.com/wp-content/uploads/2026/03/Winter-Tournament-1.png
END:VEVENT
BEGIN:VEVENT
DTSTART;VALUE=DATE:20260630
DTEND;VALUE=DATE:20260704
DTSTAMP:20260419T221947
CREATED:20260329T225924Z
LAST-MODIFIED:20260329T225924Z
UID:10002405-1782777600-1783123199@www.clubtocumwal.com
SUMMARY:2026 Victorian Junior Amateur
DESCRIPTION:We are excited to be hosting the 2026 Victorian Junior Amateur at Club Tocumwal alongside Cobram Barooga Golf Club over June 30 – July 3. \nJuniors with a Handicap of 18.4\, and under 17 at June 30\, 2026 are eligible to play. \nThe Championships are contested as pinnacle 72-hole junior stroke events without a ‘cut’. The event has fast become one of the most coveted titles in the country. Year after year it attracts a huge field with some of the best junior golfers from Australia and overseas assembling in chase of the title. \nThe event is a Boys and Girls Australian Order of Merit and World Ranking event. \nEntries can be completed here: https://tourentry.golfbox.dk/?cid=5258727 \n 
URL:https://www.clubtocumwal.com/event/2026-victorian-junior-amateur/
LOCATION:Club Tocumwal
CATEGORIES:Club Tocumwal Events,Golf Tournaments
ATTACH;FMTTYPE=image/png:https://www.clubtocumwal.com/wp-content/uploads/2026/03/GA-Junior-Amateur.png
END:VEVENT
BEGIN:VEVENT
DTSTART;TZID=Australia/Melbourne:20260704T190000
DTEND;TZID=Australia/Melbourne:20260704T233000
DTSTAMP:20260419T221947
CREATED:20260319T015806Z
LAST-MODIFIED:20260319T015806Z
UID:10002401-1783191600-1783207800@www.clubtocumwal.com
SUMMARY:Andy Magee Comedy Hypnotist
DESCRIPTION:Andy Magee will be bringing his comedy Hypnosis show to Club Tocumwal. Buckle up for a night of laughs and surprises. \nTickets on sale soon.
URL:https://www.clubtocumwal.com/event/andy-magee-comedy-hypnotist/
LOCATION:Club Tocumwal
CATEGORIES:Club Tocumwal Events
ATTACH;FMTTYPE=image/png:https://www.clubtocumwal.com/wp-content/uploads/2026/03/Andy-Magee-Hypnotist-Show-1.png
END:VEVENT
BEGIN:VEVENT
DTSTART;TZID=Australia/Melbourne:20260829T200000
DTEND;TZID=Australia/Melbourne:20260829T233000
DTSTAMP:20260419T221947
CREATED:20260319T013418Z
LAST-MODIFIED:20260319T013418Z
UID:10002399-1788033600-1788046200@www.clubtocumwal.com
SUMMARY:INXSIVE - INXS Tribute Band
DESCRIPTION:Australia’s number 1 INXS tribute band will have the clubhouse pumping while the perform all the hits you know and love.
URL:https://www.clubtocumwal.com/event/inxsive-inxs-tribute-band/
LOCATION:Club Tocumwal
CATEGORIES:Club Tocumwal Events
ATTACH;FMTTYPE=image/png:https://www.clubtocumwal.com/wp-content/uploads/2026/03/INXSIVE.png
END:VEVENT
BEGIN:VEVENT
DTSTART;TZID=Australia/Melbourne:20261010T190000
DTEND;TZID=Australia/Melbourne:20261010T233000
DTSTAMP:20260419T221947
CREATED:20260319T014925Z
LAST-MODIFIED:20260319T014925Z
UID:10002400-1791658800-1791675000@www.clubtocumwal.com
SUMMARY:Faulty Towers Dining Experience
DESCRIPTION:The world’s most sought after show based on the iconic BBC series Fawlty Towers. Join us for the dinner and show while you spend the evening with Basil\, Sybil and Manuel. \nTickets on Sale soon
URL:https://www.clubtocumwal.com/event/faulty-towers-dining-experience/
LOCATION:Club Tocumwal
CATEGORIES:Club Tocumwal Events
ATTACH;FMTTYPE=image/png:https://www.clubtocumwal.com/wp-content/uploads/2026/03/Faulty-Towers-Dining-Experience.png
END:VEVENT
END:VCALENDAR